Workbook
Name Neuron_xS50_Coils_group_1.csv: 'Coils (Unit ID 0)'!$A$5:$E$5
Name Neuron_xS50_Coils_group_1.csv: 'Coils (Unit ID 1)'!$A$5:$E$24
Name Neuron_xS50_Registers_group_1.csv: 'Registers (Unit ID 0)'!$A$5:$J$5
Name Neuron_xS50_Registers_group_1.csv: 'Registers (Unit ID 1)'!$A$5:$J$19

Sheet Description
A1: Edge E410
A2: Description | F2: v1.0
B4: Check out the Unipi Knowledge base for more information
B6: Firmware (re)programming tool - [fwspi]
B7: Debian packages: [unipi-firmware-tools], [unipi-firmware6]
B9: Access to all coils/registers via Unit ID 0 is possible by using formula
B10: address + ((Unit ID - 1)*100)
B12: Configuration (U/I/R) of Analog Inputs
B13: Value | D13: Type of measurement
B14: 0 | D14: OFF
B15: 1 | D15: Voltage 0 – 10 V
B16: 2 | D16: Voltage 0 – 2.5 V
B17: 3 | D17: Current 4 – 20 mA
B18: 4 | D18: Resistance 90 – 2000 Ω
B20: Available measurement modes for specific Analog inputs
C21: Type of measurement
B22: AI1 | C22: Voltage 0 – 10 V
B23: AI2 | C23: Voltage 0 – 10 V, Voltage 0 – 2.5 V, Current 4 – 20 mA
B24: AI3 | C24: Voltage 0 – 10 V, Voltage 0 – 2.5 V, Current 4 – 20 mA
B25: AI4 | C25: Resistance 90 – 2000 Ω
B26: AI5 | C26: Resistance 90 – 2000 Ω
B28: Byte order
B29: 0-LSB, 15-MSB
B31: Register and Coil starting address
B32: 0
B34: Default configuration/values
C35: Data | D35: Value | E35: Description
B36: DI | C36: Counter | D36: 0 | E36: -
C37: Debounce | D37: 50 | E37: 5 ms
C38: Direct Switch | D38: 0 | E38: OFF
B39: AI | C39: State | D39: 0 | E39: OFF
C40: Configuration | D40: 0 | E40: OFF
B41: DO | C41: State | D41: 0 | E41: OFF
B42: MWD | C42: Timeout | D42: 2500 | E42: 2500 ms
C43: Enable | D43: 0 | E43: OFF

Sheet Registers (Unit ID 0)
A1: =Description!A1 -> Edge E410
A2: Holding registers (Unit ID 0) | J2: =Description!F2 -> v1.0
A4: Register Address | C4: Length | D4: R/W | E4: Data Type | F4: Content | I4: Bit Nr. | J4: Category
A5: DEC | B5: HEX
A6: 3998 | B6: =CONCATENATE("0x",DEC2HEX($A6,4)) -> 0x0F9E | C6: 1 | D6: W | E6: MixedBits | F6: User Programmable LEDs | J6: Basic
F7: User Programmable LED 1 | I7: 0
F8: User Programmable LED 2 | I8: 1
F9: User Programmable LED 3 | I9: 2
A10: 4000 | B10: =CONCATENATE("0x",DEC2HEX($A10,4)) -> 0x0FA0 | C10: 1 | D10: R | E10: uint16 / uint | F10: Storage - Erase cycles used [%] | J10: Basic
A11: 4001 | B11: =CONCATENATE("0x",DEC2HEX($A11,4)) -> 0x0FA1 | C11: 1 | D11: R | E11: uint16 / uint | F11: Storage - Good blocks [%] | J11: Basic
A12: 4200 | B12: =CONCATENATE("0x",DEC2HEX($A12,4)) -> 0x1068 | C12: 1 | D12: R | E12: uint16 / uint | F12: Connection - Mode | J12: Basic
A13: 4201 | B13: =CONCATENATE("0x",DEC2HEX($A13,4)) -> 0x1069 | C13: 1 | D13: R | E13: uint16 / uint | F13: Connection - Network type | J13: Basic
A14: 4202 | B14: =CONCATENATE("0x",DEC2HEX($A14,4)) -> 0x106A | C14: 1 | D14: R | E14: uint16 / uint | F14: Connection - RSSI [dBm] | J14: Basic
A15: 4203 | B15: =CONCATENATE("0x",DEC2HEX($A15,4)) -> 0x106B | C15: 1 | D15: R | E15: uint16 / uint | F15: Connection - Signal quality | J15: Basic

Sheet Coils (Unit ID 0)
A1: =Description!A1 -> Edge E410
A2: Coils (Unit ID 0) | E2: =Description!F2 -> v1.0
A4: Register Address | C4: R/W | D4: Content | E4: Category
A5: DEC | B5: HEX
A6: 3000 | B6: =CONCATENATE("0x",DEC2HEX($A6,4)) -> 0x0BB8 | C6: W | D6: User Programmable LED 1 | E6: Basic
A7: 3001 | B7: =CONCATENATE("0x",DEC2HEX($A7,4)) -> 0x0BB9 | C7: W | D7: User Programmable LED 2 | E7: Basic
A8: 3002 | B8: =CONCATENATE("0x",DEC2HEX($A8,4)) -> 0x0BBA | C8: W | D8: User Programmable LED 3 | E8: Basic

Sheet Registers (Unit ID 1)
A1: =Description!A1 -> Edge E410
A2: Holding registers (Unit ID 1) | J2: =Description!F2 -> v1.0
A4: Register Address | C4: Length | D4: R/W | E4: Data Type | F4: Content | I4: Bit Nr. | J4: Category
A5: DEC | B5: HEX
A6: 0 | B6: =CONCATENATE("0x",DEC2HEX($A6,4)) -> 0x0000 | C6: 1 | D6: R | E6: MixedBits | F6: Digital Inputs | J6: Basic
F7: Digital Input 1 | I7: 0
F8: Digital Input 2 | I8: 1
F9: Digital Input 3 | I9: 2
F10: Digital Input 4 | I10: 3
A11: 1 | B11: =CONCATENATE("0x",DEC2HEX($A11,4)) -> 0x0001 | C11: 1 | D11: RW | E11: MixedBits | F11: Digital Outputs | J11: Basic
F12: Digital Output 1 | I12: 0
F13: Digital Output 2 | I13: 1
A14: 2 | B14: =CONCATENATE("0x",DEC2HEX($A14,4)) -> 0x0002 | C14: 2 | D14: R | E14: float32 / real | F14: Analog Input 1 | J14: Basic
A15: 4 | B15: =CONCATENATE("0x",DEC2HEX($A15,4)) -> 0x0004 | C15: 2 | D15: R | E15: float32 / real | F15: Analog Input 2 | J15: Basic
A16: 6 | B16: =CONCATENATE("0x",DEC2HEX($A16,4)) -> 0x0006 | C16: 2 | D16: R | E16: float32 / real | F16: Analog Input 3 | J16: Basic
A17: 8 | B17: =CONCATENATE("0x",DEC2HEX($A17,4)) -> 0x0008 | C17: 2 | D17: R | E17: float32 / real | F17: Analog Input 4 | J17: Basic
A18: 10 | B18: =CONCATENATE("0x",DEC2HEX($A18,4)) -> 0x000A | C18: 2 | D18: R | E18: float32 / real | F18: Analog Input 5 | J18: Basic
A19: 12 | B19: =CONCATENATE("0x",DEC2HEX($A19,4)) -> 0x000C | C19: 1 | D19: RW | E19: MixedBits | F19: Group MasterWatchDog (MWD) Status | J19: Advanced
F20: MWD Enable | I20: 0
F21: MWD Reboot Detected | I21: 1
A22: 13 | B22: =CONCATENATE("0x",DEC2HEX($A22,4)) -> 0x000D | C22: 2 | D22: RW | E22: uint32 / udint | F22: Counter of Digital Input 1 | J22: Basic
A23: 15 | B23: =CONCATENATE("0x",DEC2HEX($A23,4)) -> 0x000F | C23: 2 | D23: RW | E23: uint32 / udint | F23: Counter of Digital Input 2 | J23: Basic
A24: 17 | B24: =CONCATENATE("0x",DEC2HEX($A24,4)) -> 0x0011 | C24: 2 | D24: RW | E24: uint32 / udint | F24: Counter of Digital Input 3 | J24: Basic
A25: 19 | B25: =CONCATENATE("0x",DEC2HEX($A25,4)) -> 0x0013 | C25: 2 | D25: RW | E25: uint32 / udint | F25: Counter of Digital Input 4 | J25: Basic
A26: 21 | B26: =CONCATENATE("0x",DEC2HEX($A26,4)) -> 0x0015 | C26: 1 | D26: RW | E26: uint16 / uint | F26: PWM Duty Cycle of DO 1.1 | J26: Basic
A27: 22 | B27: =CONCATENATE("0x",DEC2HEX($A27,4)) -> 0x0016 | C27: 1 | D27: RW | E27: uint16 / uint | F27: PWM Duty Cycle of DO 1.2 | J27: Basic
A28: 23 | B28: =CONCATENATE("0x",DEC2HEX($A28,4)) -> 0x0017 | C28: 1 | D28: RW | E28: MixedBits | F28: Reserved - Do Not Use | J28: Reserved
A29: 24 | B29: =CONCATENATE("0x",DEC2HEX($A29,4)) -> 0x0018 | C29: 1 | D29: RW | E29: MixedBits | F29: Synchronised Digital Outputs | J29: Advanced
F30: Synchronised DO 1 | I30: 0
F31: Synchronised DO 2 | I31: 1
A32: 25 | B32: =CONCATENATE("0x",DEC2HEX($A32,4)) -> 0x0019 | C32: 1 | D32: RW | E32: MixedBits | F32: Synchronised Digital Output Locks | J32: Advanced
F33: Synchronised DO Lock 1 | I33: 0
F34: Synchronised DO Lock 2 | I34: 1
A36: 1000 | B36: =CONCATENATE("0x",DEC2HEX($A36,4)) -> 0x03E8 | C36: 1 | D36: R | E36: uint16 / uint | F36: Firmware Version | J36: Expert
A37: 1001 | B37: =CONCATENATE("0x",DEC2HEX($A37,4)) -> 0x03E9 | C37: 1 | D37: R | E37: MixedBits | F37: Number of I/Os | J37: Advanced
F38: Number of DIs | I38: 0 - 7
F39: Number of DOs | I39: 8 - 15
A40: 1002 | B40: =CONCATENATE("0x",DEC2HEX($A40,4)) -> 0x03EA | C40: 1 | D40: R | E40: MixedBits | F40: Number of peripherals | J40: Advanced
F41: Number of internal RS485 lines | I41: 0 - 3
F42: Number of AOs | I42: 4 - 7
...

Sheet Coils (Unit ID 1)
A1: =Description!A1 -> Edge E410
A2: Coils (Unit ID 1) | E2: =Description!F2 -> v1.0
A4: Register Address | C4: R/W | D4: Content | E4: Category
A5: DEC | B5: HEX
A6: 0 | B6: =CONCATENATE("0x",DEC2HEX($A6,4)) -> 0x0000 | C6: RW | D6: Digital Output 1 | E6: Basic
A7: 1 | B7: =CONCATENATE("0x",DEC2HEX($A7,4)) -> 0x0001 | C7: RW | D7: Digital Output 2 | E7: Basic
A8: 2 | B8: =CONCATENATE("0x",DEC2HEX($A8,4)) -> 0x0002 | C8: R | D8: Digital Input 1 | E8: Basic
A9: 3 | B9: =CONCATENATE("0x",DEC2HEX($A9,4)) -> 0x0003 | C9: R | D9: Digital Input 2 | E9: Basic
A10: 4 | B10: =CONCATENATE("0x",DEC2HEX($A10,4)) -> 0x0004 | C10: R | D10: Digital Input 3 | E10: Basic
A11: 5 | B11: =CONCATENATE("0x",DEC2HEX($A11,4)) -> 0x0005 | C11: R | D11: Digital Input 4 | E11: Basic
A12: 1000 | B12: =CONCATENATE("0x",DEC2HEX($A12,4)) -> 0x03E8 | C12: RW | D12: MWD reset indication | E12: Advanced
A13: 1001 | B13: =CONCATENATE("0x",DEC2HEX($A13,4)) -> 0x03E9 | D13: Reserved - Do Not Use | E13: Reserved
A14: 1002 | B14: =CONCATENATE("0x",DEC2HEX($A14,4)) -> 0x03EA | C14: RW | D14: Reset group MCU | E14: Advanced
A15: 1003 | B15: =CONCATENATE("0x",DEC2HEX($A15,4)) -> 0x03EB | C15: RW | D15: Save current configuration and use on startup | E15: Advanced
A16: 1004 | B16: =CONCATENATE("0x",DEC2HEX($A16,4)) -> 0x03EC | D16: Reserved - Do Not Use | E16: Reserved
A17: 1005 | B17: =CONCATENATE("0x",DEC2HEX($A17,4)) -> 0x03ED | D17: Reserved - Do Not Use | E17: Reserved
A18: 1006 | B18: =CONCATENATE("0x",DEC2HEX($A18,4)) -> 0x03EE | D18: Reserved - Do Not Use | E18: Reserved
A19: 1007 | B19: =CONCATENATE("0x",DEC2HEX($A19,4)) -> 0x03EF | C19: RW | D19: Enable DirectSwitch on DI 1 | E19: Advanced
A20: 1008 | B20: =CONCATENATE("0x",DEC2HEX($A20,4)) -> 0x03F0 | C20: RW | D20: Enable DirectSwitch on DI 2 | E20: Advanced
A21: 1009 | B21: =CONCATENATE("0x",DEC2HEX($A21,4)) -> 0x03F1 | C21: RW | D21: Invert DirectSwitch Polarity on DI 1 | E21: Advanced
A22: 1010 | B22: =CONCATENATE("0x",DEC2HEX($A22,4)) -> 0x03F2 | C22: RW | D22: Invert DirectSwitch Polarity on DI 2 | E22: Advanced
A23: 1011 | B23: =CONCATENATE("0x",DEC2HEX($A23,4)) -> 0x03F3 | C23: RW | D23: Enable DirectSwitch Toggle Mode on DI 1 | E23: Advanced
A24: 1012 | B24: =CONCATENATE("0x",DEC2HEX($A24,4)) -> 0x03F4 | C24: RW | D24: Enable DirectSwitch Toggle Mode on DI 2 | E24: Advanced
